BEGIN:VCALENDAR
VERSION:2.0
PRODID:-//Rocroi ville - ECPv5.14.1//NONSGML v1.0//EN
CALSCALE:GREGORIAN
METHOD:PUBLISH
X-WR-CALNAME:Rocroi ville
X-ORIGINAL-URL:https://rocroi.fr
X-WR-CALDESC:évènements pour Rocroi ville
BEGIN:VTIMEZONE
TZID:Europe/Paris
BEGIN:DAYLIGHT
TZOFFSETFROM:+0100
TZOFFSETTO:+0200
TZNAME:CEST
DTSTART:20260329T010000
END:DAYLIGHT
BEGIN:STANDARD
TZOFFSETFROM:+0200
TZOFFSETTO:+0100
TZNAME:CET
DTSTART:20261025T010000
END:STANDARD
END:VTIMEZONE
BEGIN:VEVENT
DTSTART;TZID=Europe/Paris:20261209T080000
DTEND;TZID=Europe/Paris:20261209T170000
DTSTAMP:20260421T052311
CREATED:20251219T100957Z
LAST-MODIFIED:20251219T100957Z
UID:6471-1796803200-1796835600@rocroi.fr
SUMMARY:Noël des enfants du personnel de l'EHPAD
DESCRIPTION:
URL:https://rocroi.fr/event/noel-des-enfants-du-personnel-de-lehpad/
LOCATION:Salle Nevers
CATEGORIES:Agenda
END:VEVENT
END:VCALENDAR